BEGIN:VCALENDAR
VERSION:2.0
PRODID:-//Robin Walter - ECPv6.15.20//NONSGML v1.0//EN
CALSCALE:GREGORIAN
METHOD:PUBLISH
X-WR-CALNAME:Robin Walter
X-ORIGINAL-URL:https://www.robinwalter.fr
X-WR-CALDESC:Évènements pour Robin Walter
REFRESH-INTERVAL;VALUE=DURATION:PT1H
X-Robots-Tag:noindex
X-PUBLISHED-TTL:PT1H
BEGIN:VTIMEZONE
TZID:Europe/Paris
BEGIN:DAYLIGHT
TZOFFSETFROM:+0100
TZOFFSETTO:+0200
TZNAME:CEST
DTSTART:20250330T010000
END:DAYLIGHT
BEGIN:STANDARD
TZOFFSETFROM:+0200
TZOFFSETTO:+0100
TZNAME:CET
DTSTART:20251026T010000
END:STANDARD
BEGIN:DAYLIGHT
TZOFFSETFROM:+0100
TZOFFSETTO:+0200
TZNAME:CEST
DTSTART:20260329T010000
END:DAYLIGHT
BEGIN:STANDARD
TZOFFSETFROM:+0200
TZOFFSETTO:+0100
TZNAME:CET
DTSTART:20261025T010000
END:STANDARD
BEGIN:DAYLIGHT
TZOFFSETFROM:+0100
TZOFFSETTO:+0200
TZNAME:CEST
DTSTART:20270328T010000
END:DAYLIGHT
BEGIN:STANDARD
TZOFFSETFROM:+0200
TZOFFSETTO:+0100
TZNAME:CET
DTSTART:20271031T010000
END:STANDARD
END:VTIMEZONE
BEGIN:VEVENT
DTSTART;VALUE=DATE:20260523
DTEND;VALUE=DATE:20260524
DTSTAMP:20260423T160108
CREATED:20260208T182016Z
LAST-MODIFIED:20260213T101502Z
UID:3220-1779494400-1779580799@www.robinwalter.fr
SUMMARY:Librairie Bulles de Vienne
DESCRIPTION:Retrouvez-moi à la librairie Bulles de Vienne pour une chouette journée !\nRencontre puis séance de dédicaces au programme.\nPlus d’infos à venir.\n79 Rue Marchande\, 38200 Vienne
URL:https://www.robinwalter.fr/calendrier/librairie-bulles-de-vienne/
LOCATION:Vienne (Isère)
CATEGORIES:Dédicace,Rencontre
ATTACH;FMTTYPE=image/jpeg:https://www.robinwalter.fr/wp-content/uploads/2026/02/Bulles-de-Vienne.jpg
END:VEVENT
END:VCALENDAR