BEGIN:VCALENDAR
VERSION:2.0
PRODID:-//Robin Walter - ECPv6.15.20//NONSGML v1.0//EN
CALSCALE:GREGORIAN
METHOD:PUBLISH
X-WR-CALNAME:Robin Walter
X-ORIGINAL-URL:https://www.robinwalter.fr
X-WR-CALDESC:Évènements pour Robin Walter
REFRESH-INTERVAL;VALUE=DURATION:PT1H
X-Robots-Tag:noindex
X-PUBLISHED-TTL:PT1H
BEGIN:VTIMEZONE
TZID:Europe/Paris
BEGIN:DAYLIGHT
TZOFFSETFROM:+0100
TZOFFSETTO:+0200
TZNAME:CEST
DTSTART:20250330T010000
END:DAYLIGHT
BEGIN:STANDARD
TZOFFSETFROM:+0200
TZOFFSETTO:+0100
TZNAME:CET
DTSTART:20251026T010000
END:STANDARD
BEGIN:DAYLIGHT
TZOFFSETFROM:+0100
TZOFFSETTO:+0200
TZNAME:CEST
DTSTART:20260329T010000
END:DAYLIGHT
BEGIN:STANDARD
TZOFFSETFROM:+0200
TZOFFSETTO:+0100
TZNAME:CET
DTSTART:20261025T010000
END:STANDARD
BEGIN:DAYLIGHT
TZOFFSETFROM:+0100
TZOFFSETTO:+0200
TZNAME:CEST
DTSTART:20270328T010000
END:DAYLIGHT
BEGIN:STANDARD
TZOFFSETFROM:+0200
TZOFFSETTO:+0100
TZNAME:CET
DTSTART:20271031T010000
END:STANDARD
END:VTIMEZONE
BEGIN:VEVENT
DTSTART;TZID=Europe/Paris:20260207T143000
DTEND;TZID=Europe/Paris:20260207T183000
DTSTAMP:20260423T210221
CREATED:20260113T142805Z
LAST-MODIFIED:20260129T100512Z
UID:3098-1770474600-1770489000@www.robinwalter.fr
SUMMARY:Librairie LaBD
DESCRIPTION:Rendez-vous à Lyon\, dans le quartier Croix-Rousse\, pour une après-midi de rencontre/dédicaces à la librairie LaBD !\nJe serai ravi de vous présenter ma dernière bande dessinée\, « Tante Suzanne »\, mes autres bouquins seront de la partie également.
URL:https://www.robinwalter.fr/calendrier/librairie-labd-a-lyon/
LOCATION:Lyon
CATEGORIES:Dédicace,Rencontre
ATTACH;FMTTYPE=image/jpeg:https://www.robinwalter.fr/wp-content/uploads/2026/01/LaBD2026.jpg
END:VEVENT
END:VCALENDAR