BEGIN:VCALENDAR
VERSION:2.0
PRODID:-//Robin Walter - ECPv6.15.20//NONSGML v1.0//EN
CALSCALE:GREGORIAN
METHOD:PUBLISH
X-ORIGINAL-URL:https://www.robinwalter.fr
X-WR-CALDESC:Évènements pour Robin Walter
REFRESH-INTERVAL;VALUE=DURATION:PT1H
X-Robots-Tag:noindex
X-PUBLISHED-TTL:PT1H
BEGIN:VTIMEZONE
TZID:Europe/Paris
BEGIN:DAYLIGHT
TZOFFSETFROM:+0100
TZOFFSETTO:+0200
TZNAME:CEST
DTSTART:20240331T010000
END:DAYLIGHT
BEGIN:STANDARD
TZOFFSETFROM:+0200
TZOFFSETTO:+0100
TZNAME:CET
DTSTART:20241027T010000
END:STANDARD
BEGIN:DAYLIGHT
TZOFFSETFROM:+0100
TZOFFSETTO:+0200
TZNAME:CEST
DTSTART:20250330T010000
END:DAYLIGHT
BEGIN:STANDARD
TZOFFSETFROM:+0200
TZOFFSETTO:+0100
TZNAME:CET
DTSTART:20251026T010000
END:STANDARD
BEGIN:DAYLIGHT
TZOFFSETFROM:+0100
TZOFFSETTO:+0200
TZNAME:CEST
DTSTART:20260329T010000
END:DAYLIGHT
BEGIN:STANDARD
TZOFFSETFROM:+0200
TZOFFSETTO:+0100
TZNAME:CET
DTSTART:20261025T010000
END:STANDARD
BEGIN:DAYLIGHT
TZOFFSETFROM:+0100
TZOFFSETTO:+0200
TZNAME:CEST
DTSTART:20270328T010000
END:DAYLIGHT
BEGIN:STANDARD
TZOFFSETFROM:+0200
TZOFFSETTO:+0100
TZNAME:CET
DTSTART:20271031T010000
END:STANDARD
END:VTIMEZONE
BEGIN:VEVENT
DTSTART;VALUE=DATE:20250517
DTEND;VALUE=DATE:20250519
DTSTAMP:20260423T102729
CREATED:20241218T072344Z
LAST-MODIFIED:20250402T065901Z
UID:2878-1747440000-1747612799@www.robinwalter.fr
SUMMARY:BDécines
DESCRIPTION:Retrouvez-moi les samedi 17 et dimanche 18 mai à Décines\, dans la Métropole de Lyon\, pour son festival BD « BDécines ». J’y dédicacerai mes albums « Von Braun »\, « KZ Dora »\, « Maria et Salazar »\, « Prolongations » et « Transversale ».
URL:https://www.robinwalter.fr/calendrier/bdecines-2/
LOCATION:Decines (Lyon Métropole)
CATEGORIES:Dédicace,Festival BD
ATTACH;FMTTYPE=image/jpeg:https://www.robinwalter.fr/wp-content/uploads/2024/12/BDecines-2025.jpg
END:VEVENT
BEGIN:VEVENT
DTSTART;VALUE=DATE:20250613
DTEND;VALUE=DATE:20250616
DTSTAMP:20260423T102729
CREATED:20250314T074836Z
LAST-MODIFIED:20250610T070537Z
UID:2933-1749772800-1750031999@www.robinwalter.fr
SUMMARY:Lyon BD
DESCRIPTION:Retrouvez-moi au Festival BD de Lyon sur le stand de la librairie BD Oullins sur les créneaux de dédicace suivants :\nSamedi 15 juin : 10h-12h et 14h-17h\nDimanche 16 juin : 10h-12h et  14h-17h \n 
URL:https://www.robinwalter.fr/calendrier/lyon-bd-2/
LOCATION:Lyon
CATEGORIES:Dédicace,Festival BD
ATTACH;FMTTYPE=image/jpeg:https://www.robinwalter.fr/wp-content/uploads/2025/03/LyonBD-2025.jpg
END:VEVENT
BEGIN:VEVENT
DTSTART;VALUE=DATE:20251011
DTEND;VALUE=DATE:20251013
DTSTAMP:20260423T102729
CREATED:20250824T151637Z
LAST-MODIFIED:20250824T151637Z
UID:2998-1760140800-1760313599@www.robinwalter.fr
SUMMARY:Chelles en Bulles
DESCRIPTION:Retrouvez-moi pour la première fois au Festival Chelles en Bulles !\nJ’y dédicacerai tous mes albums et aurai plaisir à échanger avec vous.
URL:https://www.robinwalter.fr/calendrier/chelles-en-bulles/
LOCATION:Chelles (Seine-et-Marne)
CATEGORIES:Dédicace,Festival BD
ATTACH;FMTTYPE=image/jpeg:https://www.robinwalter.fr/wp-content/uploads/2025/08/Chelles-2025.jpg
END:VEVENT
BEGIN:VEVENT
DTSTART;VALUE=DATE:20251024
DTEND;VALUE=DATE:20251027
DTSTAMP:20260423T102729
CREATED:20250824T152359Z
LAST-MODIFIED:20250824T152359Z
UID:3002-1761264000-1761523199@www.robinwalter.fr
SUMMARY:Quai des Bulles
DESCRIPTION:Retrouvez-moi au Festival « Quai des Bulles » de Saint-Malo\, sur le stand des Editions Des ronds dans l’O.\nJ’y dédicacerai mes différents albums.
URL:https://www.robinwalter.fr/calendrier/quai-des-bulles-5/
LOCATION:Saint-Malo (Ille-et-Vilaine)
CATEGORIES:Dédicace,Festival BD
ATTACH;FMTTYPE=image/jpeg:https://www.robinwalter.fr/wp-content/uploads/2025/08/Quai-des-Bulles-2025.jpg
END:VEVENT
BEGIN:VEVENT
DTSTART;VALUE=DATE:20260131
DTEND;VALUE=DATE:20260202
DTSTAMP:20260423T102729
CREATED:20260105T182702Z
LAST-MODIFIED:20260105T182702Z
UID:3083-1769817600-1769990399@www.robinwalter.fr
SUMMARY:Fête interconnectée de la BD
DESCRIPTION:Rendez-vous sur le stand des Ronds dans l’O\, au Ground Control à Paris\, à l’occasion de la fête interconnectée de la BD !\nJ’y dédicacerai mes différents albums mais ce sera surtout l’occasion de découvrir mon tout dernier : « Tante Suzanne\, Peintre orientaliste\, pionnière des Beaux-Arts ».
URL:https://www.robinwalter.fr/calendrier/fete-interconnectee-de-la-bd/
LOCATION:Paris XIIème
CATEGORIES:Dédicace,Festival BD
ATTACH;FMTTYPE=image/jpeg:https://www.robinwalter.fr/wp-content/uploads/2026/01/BD-interconnectee.jpg
END:VEVENT
BEGIN:VEVENT
DTSTART;VALUE=DATE:20260228
DTEND;VALUE=DATE:20260302
DTSTAMP:20260423T102729
CREATED:20260105T180624Z
LAST-MODIFIED:20260105T180624Z
UID:3076-1772236800-1772409599@www.robinwalter.fr
SUMMARY:Bulles en Val
DESCRIPTION:Retrouvez-moi au festival Bulles en Val de Saint-Denis-en-Val !\nJ’y dédicacerai tous mes albums mais ce sera surtout l’occasion de découvrir mon nouveau bébé : « Tante Suzanne\, Peintre orientaliste\, pionnière des beaux-Arts » !
URL:https://www.robinwalter.fr/calendrier/bulles-en-val-3/
LOCATION:Saint-Deni-en-Val (Loiret)
CATEGORIES:Dédicace,Festival BD
ATTACH;FMTTYPE=image/jpeg:https://www.robinwalter.fr/wp-content/uploads/2026/01/Bulles-en-Val-2026.jpg
END:VEVENT
BEGIN:VEVENT
DTSTART;VALUE=DATE:20260314
DTEND;VALUE=DATE:20260316
DTSTAMP:20260423T102729
CREATED:20260106T142541Z
LAST-MODIFIED:20260116T074234Z
UID:3086-1773446400-1773619199@www.robinwalter.fr
SUMMARY:Festival BD du Bassin d'Aurillac
DESCRIPTION:Retrouvez-moi à Aurillac pour la 12ème édition du Festival BD du bassin d’Aurillac !\nJ’y dédicacerai mes différents albums dont mon tout dernier\, « Tante Suzanne\, Peintre orientaliste\, pionnière des Beaux-Arts » !
URL:https://www.robinwalter.fr/calendrier/festival-bd-du-bassin-daurillac/
LOCATION:Aurillac (Cantal)
CATEGORIES:Dédicace,Festival BD
ATTACH;FMTTYPE=image/jpeg:https://www.robinwalter.fr/wp-content/uploads/2026/01/Aurillac-2026.jpg
END:VEVENT
BEGIN:VEVENT
DTSTART;VALUE=DATE:20260404
DTEND;VALUE=DATE:20260406
DTSTAMP:20260423T102729
CREATED:20260113T153134Z
LAST-MODIFIED:20260313T091225Z
UID:3102-1775260800-1775433599@www.robinwalter.fr
SUMMARY:Rencontres BD de Longvic
DESCRIPTION:Rendez-Vous au 14èmes Rencontres BD de Longvic !\nJ’y dédicacerai tous mes albums et en particulier ma toute nouvelle bande dessinée : Tante Suzanne.
URL:https://www.robinwalter.fr/calendrier/rencontres-bd-de-longvic/
LOCATION:Longvic (Côte-d’Or)
CATEGORIES:Dédicace,Festival BD,Rencontre
ATTACH;FMTTYPE=image/jpeg:https://www.robinwalter.fr/wp-content/uploads/2026/01/Longvic-2026.jpeg
END:VEVENT
BEGIN:VEVENT
DTSTART;VALUE=DATE:20260606
DTEND;VALUE=DATE:20260608
DTSTAMP:20260423T102729
CREATED:20260324T172148Z
LAST-MODIFIED:20260324T172148Z
UID:3273-1780704000-1780876799@www.robinwalter.fr
SUMMARY:Vidau'Bulles
DESCRIPTION:Retrouvez-moi pour la première fois au Festival BD Vidau’Bulles de Vidauban\, dans le Var.\nJ’aurai plaisir à échanger et à vous dédicacer l’ensemble de mes albums dont mon tout dernier\, « Tante Suzanne ».
URL:https://www.robinwalter.fr/calendrier/vidaubulles/
LOCATION:Vidauban (Var)
CATEGORIES:Dédicace,Festival BD,Rencontre
ATTACH;FMTTYPE=image/jpeg:https://www.robinwalter.fr/wp-content/uploads/2026/03/Vidaubulles-2026.jpg
END:VEVENT
END:VCALENDAR