BEGIN:VCALENDAR
VERSION:2.0
PRODID:-//Robin Walter - ECPv6.15.20//NONSGML v1.0//EN
CALSCALE:GREGORIAN
METHOD:PUBLISH
X-ORIGINAL-URL:https://www.robinwalter.fr
X-WR-CALDESC:Évènements pour Robin Walter
REFRESH-INTERVAL;VALUE=DURATION:PT1H
X-Robots-Tag:noindex
X-PUBLISHED-TTL:PT1H
BEGIN:VTIMEZONE
TZID:Europe/Paris
BEGIN:DAYLIGHT
TZOFFSETFROM:+0100
TZOFFSETTO:+0200
TZNAME:CEST
DTSTART:20250330T010000
END:DAYLIGHT
BEGIN:STANDARD
TZOFFSETFROM:+0200
TZOFFSETTO:+0100
TZNAME:CET
DTSTART:20251026T010000
END:STANDARD
BEGIN:DAYLIGHT
TZOFFSETFROM:+0100
TZOFFSETTO:+0200
TZNAME:CEST
DTSTART:20260329T010000
END:DAYLIGHT
BEGIN:STANDARD
TZOFFSETFROM:+0200
TZOFFSETTO:+0100
TZNAME:CET
DTSTART:20261025T010000
END:STANDARD
BEGIN:DAYLIGHT
TZOFFSETFROM:+0100
TZOFFSETTO:+0200
TZNAME:CEST
DTSTART:20270328T010000
END:DAYLIGHT
BEGIN:STANDARD
TZOFFSETFROM:+0200
TZOFFSETTO:+0100
TZNAME:CET
DTSTART:20271031T010000
END:STANDARD
END:VTIMEZONE
BEGIN:VEVENT
DTSTART;VALUE=DATE:20260314
DTEND;VALUE=DATE:20260316
DTSTAMP:20260423T132839
CREATED:20260106T142541Z
LAST-MODIFIED:20260116T074234Z
UID:3086-1773446400-1773619199@www.robinwalter.fr
SUMMARY:Festival BD du Bassin d'Aurillac
DESCRIPTION:Retrouvez-moi à Aurillac pour la 12ème édition du Festival BD du bassin d’Aurillac !\nJ’y dédicacerai mes différents albums dont mon tout dernier\, « Tante Suzanne\, Peintre orientaliste\, pionnière des Beaux-Arts » !
URL:https://www.robinwalter.fr/calendrier/festival-bd-du-bassin-daurillac/
LOCATION:Aurillac (Cantal)
CATEGORIES:Dédicace,Festival BD
ATTACH;FMTTYPE=image/jpeg:https://www.robinwalter.fr/wp-content/uploads/2026/01/Aurillac-2026.jpg
END:VEVENT
END:VCALENDAR