BEGIN:VCALENDAR
VERSION:2.0
PRODID:-//Robin Walter - ECPv6.15.20//NONSGML v1.0//EN
CALSCALE:GREGORIAN
METHOD:PUBLISH
X-ORIGINAL-URL:https://www.robinwalter.fr
X-WR-CALDESC:Évènements pour Robin Walter
REFRESH-INTERVAL;VALUE=DURATION:PT1H
X-Robots-Tag:noindex
X-PUBLISHED-TTL:PT1H
BEGIN:VTIMEZONE
TZID:Europe/Paris
BEGIN:DAYLIGHT
TZOFFSETFROM:+0100
TZOFFSETTO:+0200
TZNAME:CEST
DTSTART:20200329T010000
END:DAYLIGHT
BEGIN:STANDARD
TZOFFSETFROM:+0200
TZOFFSETTO:+0100
TZNAME:CET
DTSTART:20201025T010000
END:STANDARD
BEGIN:DAYLIGHT
TZOFFSETFROM:+0100
TZOFFSETTO:+0200
TZNAME:CEST
DTSTART:20210328T010000
END:DAYLIGHT
BEGIN:STANDARD
TZOFFSETFROM:+0200
TZOFFSETTO:+0100
TZNAME:CET
DTSTART:20211031T010000
END:STANDARD
BEGIN:DAYLIGHT
TZOFFSETFROM:+0100
TZOFFSETTO:+0200
TZNAME:CEST
DTSTART:20220327T010000
END:DAYLIGHT
BEGIN:STANDARD
TZOFFSETFROM:+0200
TZOFFSETTO:+0100
TZNAME:CET
DTSTART:20221030T010000
END:STANDARD
END:VTIMEZONE
BEGIN:VEVENT
DTSTART;VALUE=DATE:20210619
DTEND;VALUE=DATE:20210620
DTSTAMP:20260423T132057
CREATED:20210524T160713Z
LAST-MODIFIED:20210524T160713Z
UID:1924-1624060800-1624147199@www.robinwalter.fr
SUMMARY:Traits de Mémoire\, Festival de bande dessinée historique
DESCRIPTION:Retrouvez-moi sur le stand des Editions Des ronds dans l’O\, pour la seconde édition de ce festival dans les murs du Mémorial de l’Internement et de la déportation de Compiègne\, dans l’Oise\, le samedi 19 juin !\nJ’y dédicacerai notamment mes albums liés à l’histoire du site\, KZ Dora et Von Braun. Mais aussi Maria et Salazar.
URL:https://www.robinwalter.fr/calendrier/traits-de-memoire-festival-de-bande-dessinee-historique/
LOCATION:Compiègne
CATEGORIES:Dédicace,Festival BD
ATTACH;FMTTYPE=image/jpeg:https://www.robinwalter.fr/wp-content/uploads/2021/05/Affiche-A3-Compiegne-festival-scaled.jpg
END:VEVENT
END:VCALENDAR